BEGIN:VCALENDAR
VERSION:2.0
CALSCALE:GREGORIAN
BEGIN:VEVENT
URL:https://www.learndesk.us/class/6745474415460352/anybody-can-design-in-catia-v5-part-design?ref=outlook-calendar
SUMMARY:Anybody Can Design In CATIA V5 Part Design
DTSTART;TZID=America/Los_Angeles:20260423T190000
DTEND;TZID=America/Los_Angeles:20260423T200000
LOCATION:https://www.learndesk.us/class/6745474415460352/anybody-can-design-in-catia-v5-part-design?ref=outlook-calendar
DESCRIPTION: The course is curated in a way to make Proficient designers with expertise in CATIA V5. The program covers Sketcher and Part Design workbenches, with brief explanations on almost all the tools and options. The program brings out the creative Designer in you.

https://www.learndesk.us/class/6745474415460352/anybody-can-design-in-catia-v5-part-design?ref=outlook-calendar
STATUS:CONFIRMED
SEQUENCE:3
BEGIN:VALARM
TRIGGER:-PT10M
DESCRIPTION:Class Reminder
ACTION:DISPLAY
END:VALARM
END:VEVENT
END:VCALENDAR