BEGIN:VCALENDAR
VERSION:2.0
CALSCALE:GREGORIAN
BEGIN:VEVENT
URL:https://www.learndesk.us/class/6744203981750272/lesson/e90da57e87c2c777c79d69f288b93ee2?ref=outlook-calendar
SUMMARY:Wholesaler Video Tools Needed To Succeed
DTSTART;TZID=America/Los_Angeles:20260425T190000
DTEND;TZID=America/Los_Angeles:20260425T200000
LOCATION:https://www.learndesk.us/class/6744203981750272/lesson/e90da57e87c2c777c79d69f288b93ee2?ref=outlook-calendar
DESCRIPTION: This section pertain videos of real estate wholesalers tools that are needed for you to begin to build your business diligently.

https://www.learndesk.us/class/6744203981750272/lesson/e90da57e87c2c777c79d69f288b93ee2?ref=outlook-calendar
STATUS:CONFIRMED
SEQUENCE:3
BEGIN:VALARM
TRIGGER:-PT10M
DESCRIPTION:Class Reminder
ACTION:DISPLAY
END:VALARM
END:VEVENT
END:VCALENDAR