BEGIN:VCALENDAR
VERSION:2.0
CALSCALE:GREGORIAN
BEGIN:VEVENT
URL:https://www.learndesk.us/class/6744203981750272/lesson/d86e383a5a1d2fc8fe3a8b348a7f75f3?ref=outlook-calendar
SUMMARY:Virtual Real Estate Wholesaling In 30 Days Introduction
DTSTART;TZID=America/Los_Angeles:20260425T190000
DTEND;TZID=America/Los_Angeles:20260425T200000
LOCATION:https://www.learndesk.us/class/6744203981750272/lesson/d86e383a5a1d2fc8fe3a8b348a7f75f3?ref=outlook-calendar
DESCRIPTION: This is a brief introduction as to why you should take this course if you are extremely interested in learning how to wholesale successful in 30 days while using other peoples money and building up your business.

https://www.learndesk.us/class/6744203981750272/lesson/d86e383a5a1d2fc8fe3a8b348a7f75f3?ref=outlook-calendar
STATUS:CONFIRMED
SEQUENCE:3
BEGIN:VALARM
TRIGGER:-PT10M
DESCRIPTION:Class Reminder
ACTION:DISPLAY
END:VALARM
END:VEVENT
END:VCALENDAR