BEGIN:VCALENDAR
VERSION:2.0
CALSCALE:GREGORIAN
BEGIN:VEVENT
URL:https://www.learndesk.us/class/6744203981750272/lesson/cbd2cd9f077e0019586d631d74428ab9?ref=outlook-calendar
SUMMARY:Protect Yourself - With The Right Agreement
DTSTART;TZID=America/Los_Angeles:20260425T190000
DTEND;TZID=America/Los_Angeles:20260425T200000
LOCATION:https://www.learndesk.us/class/6744203981750272/lesson/cbd2cd9f077e0019586d631d74428ab9?ref=outlook-calendar
DESCRIPTION: You will learn what agreement you should be using to protect yourself from people trying to go behind you and take any contracts and properties from you.

https://www.learndesk.us/class/6744203981750272/lesson/cbd2cd9f077e0019586d631d74428ab9?ref=outlook-calendar
STATUS:CONFIRMED
SEQUENCE:3
BEGIN:VALARM
TRIGGER:-PT10M
DESCRIPTION:Class Reminder
ACTION:DISPLAY
END:VALARM
END:VEVENT
END:VCALENDAR