BEGIN:VCALENDAR
VERSION:2.0
CALSCALE:GREGORIAN
BEGIN:VEVENT
URL:https://www.learndesk.us/class/6744203981750272/lesson/a87b08d8e0ae8aa6d407e6be42c6c7e0?ref=outlook-calendar
SUMMARY:The Assignment Of The Contract Process
DTSTART;TZID=America/Los_Angeles:20260425T190000
DTEND;TZID=America/Los_Angeles:20260425T200000
LOCATION:https://www.learndesk.us/class/6744203981750272/lesson/a87b08d8e0ae8aa6d407e6be42c6c7e0?ref=outlook-calendar
DESCRIPTION: You will learn the process of not only assigning a real estate contract, but the purpose of it in regards to real estate wholesaling. Assigning a real estate wholesale contract is the process of purchasing a property from a homeowner and assigning it to an investor before you actually buy the property.

https://www.learndesk.us/class/6744203981750272/lesson/a87b08d8e0ae8aa6d407e6be42c6c7e0?ref=outlook-calendar
STATUS:CONFIRMED
SEQUENCE:3
BEGIN:VALARM
TRIGGER:-PT10M
DESCRIPTION:Class Reminder
ACTION:DISPLAY
END:VALARM
END:VEVENT
END:VCALENDAR