BEGIN:VCALENDAR
VERSION:2.0
CALSCALE:GREGORIAN
BEGIN:VEVENT
URL:https://www.learndesk.us/class/6744203981750272/lesson/78eec6080e36c48e87bbfa4c79990735?ref=outlook-calendar
SUMMARY:Property Information Sheet
DTSTART;TZID=America/Los_Angeles:20260425T190000
DTEND;TZID=America/Los_Angeles:20260425T200000
LOCATION:https://www.learndesk.us/class/6744203981750272/lesson/78eec6080e36c48e87bbfa4c79990735?ref=outlook-calendar
DESCRIPTION: This property information sheet is a great resource tool to use when the wholesale has made the initial contact with the seller over the phone. This sheet is explained in detail as to how to use the sheet to become a more effective wholesale as well as how this powerful tool should be used..

https://www.learndesk.us/class/6744203981750272/lesson/78eec6080e36c48e87bbfa4c79990735?ref=outlook-calendar
STATUS:CONFIRMED
SEQUENCE:3
BEGIN:VALARM
TRIGGER:-PT10M
DESCRIPTION:Class Reminder
ACTION:DISPLAY
END:VALARM
END:VEVENT
END:VCALENDAR