BEGIN:VCALENDAR
VERSION:2.0
CALSCALE:GREGORIAN
BEGIN:VEVENT
URL:https://www.learndesk.us/class/6744203981750272/lesson/6f144f91467c9c41512bbfa621f51e80?ref=outlook-calendar
SUMMARY:Bird Dog Agreement
DTSTART;TZID=America/Los_Angeles:20260425T190000
DTEND;TZID=America/Los_Angeles:20260425T200000
LOCATION:https://www.learndesk.us/class/6744203981750272/lesson/6f144f91467c9c41512bbfa621f51e80?ref=outlook-calendar
DESCRIPTION: What is a Bird Dog agreement and Why do you need this agreement? It is not only explained in details. But we have included a copy of the agreement in the video for you to follow along with, as we complete it.

https://www.learndesk.us/class/6744203981750272/lesson/6f144f91467c9c41512bbfa621f51e80?ref=outlook-calendar
STATUS:CONFIRMED
SEQUENCE:3
BEGIN:VALARM
TRIGGER:-PT10M
DESCRIPTION:Class Reminder
ACTION:DISPLAY
END:VALARM
END:VEVENT
END:VCALENDAR