BEGIN:VCALENDAR
VERSION:2.0
CALSCALE:GREGORIAN
BEGIN:VEVENT
URL:https://www.learndesk.us/class/6744203981750272/lesson/627781a9548519fa9aaff4b9bb3f9d7f?ref=outlook-calendar
SUMMARY:10 Marketing Tips To Make You A Successful Wholesaler
DTSTART;TZID=America/Los_Angeles:20260425T190000
DTEND;TZID=America/Los_Angeles:20260425T200000
LOCATION:https://www.learndesk.us/class/6744203981750272/lesson/627781a9548519fa9aaff4b9bb3f9d7f?ref=outlook-calendar
DESCRIPTION: Utilize this tool as your go to guide when you are seeking some marketing support and more ideas to grow your wholesale business.

https://www.learndesk.us/class/6744203981750272/lesson/627781a9548519fa9aaff4b9bb3f9d7f?ref=outlook-calendar
STATUS:CONFIRMED
SEQUENCE:3
BEGIN:VALARM
TRIGGER:-PT10M
DESCRIPTION:Class Reminder
ACTION:DISPLAY
END:VALARM
END:VEVENT
END:VCALENDAR