BEGIN:VCALENDAR
VERSION:2.0
CALSCALE:GREGORIAN
BEGIN:VEVENT
URL:https://www.learndesk.us/class/6744203981750272/lesson/5fef3f9f5b94c7272fef2bff4076fa68?ref=outlook-calendar
SUMMARY:Learn How To Become A Successuful Real Estate Wholesaler Within 30 Days
DTSTART;TZID=America/Los_Angeles:20260425T190000
DTEND;TZID=America/Los_Angeles:20260425T200000
LOCATION:https://www.learndesk.us/class/6744203981750272/lesson/5fef3f9f5b94c7272fef2bff4076fa68?ref=outlook-calendar
DESCRIPTION: If you are a wholesaler and you are looking to sell more properties to investors and double your income. Then this course is for you! You will learn marketing techniques on how to locate motivated sellers as well as how to find seasoned buyers, who will become your end buyer over and over again. This course gives you the blueprint to be successful in real estate wholesaling.

https://www.learndesk.us/class/6744203981750272/lesson/5fef3f9f5b94c7272fef2bff4076fa68?ref=outlook-calendar
STATUS:CONFIRMED
SEQUENCE:3
BEGIN:VALARM
TRIGGER:-PT10M
DESCRIPTION:Class Reminder
ACTION:DISPLAY
END:VALARM
END:VEVENT
END:VCALENDAR