BEGIN:VCALENDAR
VERSION:2.0
CALSCALE:GREGORIAN
BEGIN:VEVENT
URL:https://www.learndesk.us/class/6744203981750272/lesson/4e6e255f8ee3c79e9a18d9df06b31f7a?ref=outlook-calendar
SUMMARY:Homebuyers Calling Script For Real Estate Investors
DTSTART;TZID=America/Los_Angeles:20260425T190000
DTEND;TZID=America/Los_Angeles:20260425T200000
LOCATION:https://www.learndesk.us/class/6744203981750272/lesson/4e6e255f8ee3c79e9a18d9df06b31f7a?ref=outlook-calendar
DESCRIPTION: This homebuyers script inside this video is a great resource tool to use when the wholesaler is trying to make the first initial contact with a potential motivated seller.

https://www.learndesk.us/class/6744203981750272/lesson/4e6e255f8ee3c79e9a18d9df06b31f7a?ref=outlook-calendar
STATUS:CONFIRMED
SEQUENCE:3
BEGIN:VALARM
TRIGGER:-PT10M
DESCRIPTION:Class Reminder
ACTION:DISPLAY
END:VALARM
END:VEVENT
END:VCALENDAR