BEGIN:VCALENDAR
VERSION:2.0
CALSCALE:GREGORIAN
BEGIN:VEVENT
URL:https://www.learndesk.us/class/6744203981750272/lesson/492b4f099a42524a0d81766a3a35c7ae?ref=outlook-calendar
SUMMARY:Wholesaling Step By Step
DTSTART;TZID=America/Los_Angeles:20260425T190000
DTEND;TZID=America/Los_Angeles:20260425T200000
LOCATION:https://www.learndesk.us/class/6744203981750272/lesson/492b4f099a42524a0d81766a3a35c7ae?ref=outlook-calendar
DESCRIPTION: This video goes into detail details on the steps you need to take to become a successful wholesale. Learn all the most important steps to take that will get you to the closing table within 30 days.

https://www.learndesk.us/class/6744203981750272/lesson/492b4f099a42524a0d81766a3a35c7ae?ref=outlook-calendar
STATUS:CONFIRMED
SEQUENCE:3
BEGIN:VALARM
TRIGGER:-PT10M
DESCRIPTION:Class Reminder
ACTION:DISPLAY
END:VALARM
END:VEVENT
END:VCALENDAR