BEGIN:VCALENDAR
VERSION:2.0
CALSCALE:GREGORIAN
BEGIN:VEVENT
URL:https://www.learndesk.us/class/6744203981750272/lesson/05b21dc415efca5332780b7ce2568d96?ref=outlook-calendar
SUMMARY:Using Craiglist To Dominate The Craigslist Marketplace
DTSTART;TZID=America/Los_Angeles:20260425T190000
DTEND;TZID=America/Los_Angeles:20260425T200000
LOCATION:https://www.learndesk.us/class/6744203981750272/lesson/05b21dc415efca5332780b7ce2568d96?ref=outlook-calendar
DESCRIPTION: Learn how to dominate Craigslist to monopolize the Craigslist community to get more motivated buyers and qualified sellers.

https://www.learndesk.us/class/6744203981750272/lesson/05b21dc415efca5332780b7ce2568d96?ref=outlook-calendar
STATUS:CONFIRMED
SEQUENCE:3
BEGIN:VALARM
TRIGGER:-PT10M
DESCRIPTION:Class Reminder
ACTION:DISPLAY
END:VALARM
END:VEVENT
END:VCALENDAR