BEGIN:VCALENDAR
VERSION:2.0
CALSCALE:GREGORIAN
BEGIN:VEVENT
URL:https://www.learndesk.us/class/6744203981750272/lesson/03b5749d87ae9488f2d2214b550b6213?ref=outlook-calendar
SUMMARY:The Difference Between Virtual Wholesaling and Traditional Wholesaling
DTSTART;TZID=America/Los_Angeles:20260425T190000
DTEND;TZID=America/Los_Angeles:20260425T200000
LOCATION:https://www.learndesk.us/class/6744203981750272/lesson/03b5749d87ae9488f2d2214b550b6213?ref=outlook-calendar
DESCRIPTION: https://www.learndesk.us/class/6744203981750272/lesson/03b5749d87ae9488f2d2214b550b6213?ref=outlook-calendar
STATUS:CONFIRMED
SEQUENCE:3
BEGIN:VALARM
TRIGGER:-PT10M
DESCRIPTION:Class Reminder
ACTION:DISPLAY
END:VALARM
END:VEVENT
END:VCALENDAR