BEGIN:VCALENDAR
VERSION:2.0
CALSCALE:GREGORIAN
BEGIN:VEVENT
URL:https://www.learndesk.us/class/6744203981750272/virtual-real-estate-wholesaling-in-30-days?ref=outlook-calendar
SUMMARY:Virtual Real Estate Wholesaling in 30 Days
DTSTART;TZID=America/Los_Angeles:20260425T190000
DTEND;TZID=America/Los_Angeles:20260425T200000
LOCATION:https://www.learndesk.us/class/6744203981750272/virtual-real-estate-wholesaling-in-30-days?ref=outlook-calendar
DESCRIPTION: 
Virtual Real Estate Wholesaling gives you the opportunity to make money, while you learn and earn, under the right structural course and guidance. There’s a growing number of real estate investors and wholesalers, wanting to invest in multiple markets. With today's technology, a great real estate mentor in the right training, virtual real estate wholesaling is as easier than ever do from the comfort of your own home office. This course is straight to the point, but yet a step by step instructional guide, as to how to wholesale properties within 30 days and become a successful wholesaler. Ebonie Caldwell of REI Investment Society joins us today to discuss in detail Virtual Wholesaling. She will tell you the following about becoming a successful and profitable wholesaler.
What will you learn in this course?

Structuring your remote team
What contracts to use, explain the contracts in detail
Give examples of wholesale deals, show you how to make money as a real estate wholesaler -...

https://www.learndesk.us/class/6744203981750272/virtual-real-estate-wholesaling-in-30-days?ref=outlook-calendar
STATUS:CONFIRMED
SEQUENCE:3
BEGIN:VALARM
TRIGGER:-PT10M
DESCRIPTION:Class Reminder
ACTION:DISPLAY
END:VALARM
END:VEVENT
END:VCALENDAR