BEGIN:VCALENDAR
VERSION:2.0
CALSCALE:GREGORIAN
BEGIN:VEVENT
URL:https://www.learndesk.us/class/6726639205482496/lesson/c9937ae3dc5dbba6f665727c67d19011?ref=outlook-calendar
SUMMARY:Goal Sheet and Growth Table
DTSTART;TZID=America/Los_Angeles:20260424T190000
DTEND;TZID=America/Los_Angeles:20260424T200000
LOCATION:https://www.learndesk.us/class/6726639205482496/lesson/c9937ae3dc5dbba6f665727c67d19011?ref=outlook-calendar
DESCRIPTION: https://www.learndesk.us/class/6726639205482496/lesson/c9937ae3dc5dbba6f665727c67d19011?ref=outlook-calendar
STATUS:CONFIRMED
SEQUENCE:3
BEGIN:VALARM
TRIGGER:-PT10M
DESCRIPTION:Class Reminder
ACTION:DISPLAY
END:VALARM
END:VEVENT
END:VCALENDAR