BEGIN:VCALENDAR
VERSION:2.0
CALSCALE:GREGORIAN
BEGIN:VEVENT
URL:https://www.learndesk.us/class/6726639205482496/lesson/6abc8cf2549e1586e587cf2c7410f67f?ref=outlook-calendar
SUMMARY:Self-Discovery Process to Cultivate a Growth Mindset
DTSTART;TZID=America/Los_Angeles:20260424T190000
DTEND;TZID=America/Los_Angeles:20260424T200000
LOCATION:https://www.learndesk.us/class/6726639205482496/lesson/6abc8cf2549e1586e587cf2c7410f67f?ref=outlook-calendar
DESCRIPTION: https://www.learndesk.us/class/6726639205482496/lesson/6abc8cf2549e1586e587cf2c7410f67f?ref=outlook-calendar
STATUS:CONFIRMED
SEQUENCE:3
BEGIN:VALARM
TRIGGER:-PT10M
DESCRIPTION:Class Reminder
ACTION:DISPLAY
END:VALARM
END:VEVENT
END:VCALENDAR