BEGIN:VCALENDAR
VERSION:2.0
CALSCALE:GREGORIAN
BEGIN:VEVENT
URL:https://www.learndesk.us/class/6726639205482496/growth-mindset-in-business?ref=outlook-calendar
SUMMARY:Growth Mindset in Business
DTSTART;TZID=America/Los_Angeles:20260424T190000
DTEND;TZID=America/Los_Angeles:20260424T200000
LOCATION:https://www.learndesk.us/class/6726639205482496/growth-mindset-in-business?ref=outlook-calendar
DESCRIPTION: "Growth mindset in business means encouraging the challenges and seeing failure not as a proof of un-intelligence but as a path of growth and for exploring our existing capabilities.
Why growth mindset in business?
A skill for every entrepreneur to

Scale the business profitably and positively
Bring in innovation for existing and new products or services
Identify problems and work towards solutions to attain business goals
Brings in collaboration with a commitment to learning and growing

Advantages of growth mindset in the biz

Helps to arrive at your value system
Aids to move out of comfort zone
Gain clarity while making decisions
Address mental fatigue
Build a resilient mindset
Identify the current type of mindset (workaholic, robotic, fixed, or growth)
Enjoy a guilt-free me-time
Be joyful and mindful

If you attend the full masterclass till the end, you will get the following bonuses
Bonus 1: Growth mindset quotient
Bonus 2: Mental fatigue blueprint
Bonus 3: Erupt with Joy...

https://www.learndesk.us/class/6726639205482496/growth-mindset-in-business?ref=outlook-calendar
STATUS:CONFIRMED
SEQUENCE:3
BEGIN:VALARM
TRIGGER:-PT10M
DESCRIPTION:Class Reminder
ACTION:DISPLAY
END:VALARM
END:VEVENT
END:VCALENDAR