BEGIN:VCALENDAR
VERSION:2.0
CALSCALE:GREGORIAN
BEGIN:VEVENT
URL:https://www.learndesk.us/class/6682947010691072/lesson/e6a6e599ba5a574f7b8279c3937060bf?ref=outlook-calendar
SUMMARY:1005 Pivot Table - Value Field Settings - "Summarize Values By" - Sum, Average, Count, Max etc.
DTSTART;TZID=America/Los_Angeles:20260421T190000
DTEND;TZID=America/Los_Angeles:20260421T200000
LOCATION:https://www.learndesk.us/class/6682947010691072/lesson/e6a6e599ba5a574f7b8279c3937060bf?ref=outlook-calendar
DESCRIPTION: https://www.learndesk.us/class/6682947010691072/lesson/e6a6e599ba5a574f7b8279c3937060bf?ref=outlook-calendar
STATUS:CONFIRMED
SEQUENCE:3
BEGIN:VALARM
TRIGGER:-PT10M
DESCRIPTION:Class Reminder
ACTION:DISPLAY
END:VALARM
END:VEVENT
END:VCALENDAR