BEGIN:VCALENDAR
VERSION:2.0
CALSCALE:GREGORIAN
BEGIN:VEVENT
URL:https://www.learndesk.us/class/6682947010691072/lesson/e099ed6f89c3627caa1590ddf51e4f7f?ref=outlook-calendar
SUMMARY:0104 Navigating Across Worksheets, Data Table Selection and Maneuvring
DTSTART;TZID=America/Los_Angeles:20260421T190000
DTEND;TZID=America/Los_Angeles:20260421T200000
LOCATION:https://www.learndesk.us/class/6682947010691072/lesson/e099ed6f89c3627caa1590ddf51e4f7f?ref=outlook-calendar
DESCRIPTION: https://www.learndesk.us/class/6682947010691072/lesson/e099ed6f89c3627caa1590ddf51e4f7f?ref=outlook-calendar
STATUS:CONFIRMED
SEQUENCE:3
BEGIN:VALARM
TRIGGER:-PT10M
DESCRIPTION:Class Reminder
ACTION:DISPLAY
END:VALARM
END:VEVENT
END:VCALENDAR