BEGIN:VCALENDAR
VERSION:2.0
CALSCALE:GREGORIAN
BEGIN:VEVENT
URL:https://www.learndesk.us/class/6682947010691072/lesson/a4a21911fd72171c87695e087d1fb260?ref=outlook-calendar
SUMMARY:0603 Sort Trick - Add Alternate Blank Rows In-between Existing Rows
DTSTART;TZID=America/Los_Angeles:20260421T190000
DTEND;TZID=America/Los_Angeles:20260421T200000
LOCATION:https://www.learndesk.us/class/6682947010691072/lesson/a4a21911fd72171c87695e087d1fb260?ref=outlook-calendar
DESCRIPTION: https://www.learndesk.us/class/6682947010691072/lesson/a4a21911fd72171c87695e087d1fb260?ref=outlook-calendar
STATUS:CONFIRMED
SEQUENCE:3
BEGIN:VALARM
TRIGGER:-PT10M
DESCRIPTION:Class Reminder
ACTION:DISPLAY
END:VALARM
END:VEVENT
END:VCALENDAR