BEGIN:VCALENDAR
VERSION:2.0
CALSCALE:GREGORIAN
BEGIN:VEVENT
URL:https://www.learndesk.us/class/6682947010691072/lesson/999a9e6e0867391cd89b2948bc1e7d9b?ref=outlook-calendar
SUMMARY:0709 Date Formulas - EOMONTH() for Financial Modeling, Budgets, Due Dates
DTSTART;TZID=America/Los_Angeles:20260421T190000
DTEND;TZID=America/Los_Angeles:20260421T200000
LOCATION:https://www.learndesk.us/class/6682947010691072/lesson/999a9e6e0867391cd89b2948bc1e7d9b?ref=outlook-calendar
DESCRIPTION: https://www.learndesk.us/class/6682947010691072/lesson/999a9e6e0867391cd89b2948bc1e7d9b?ref=outlook-calendar
STATUS:CONFIRMED
SEQUENCE:3
BEGIN:VALARM
TRIGGER:-PT10M
DESCRIPTION:Class Reminder
ACTION:DISPLAY
END:VALARM
END:VEVENT
END:VCALENDAR