BEGIN:VCALENDAR
VERSION:2.0
CALSCALE:GREGORIAN
BEGIN:VEVENT
URL:https://www.learndesk.us/class/6682947010691072/lesson/86e062d2d671915f6382392886c1e20b?ref=outlook-calendar
SUMMARY:Text to Columns – Cleaning up Numbers w. Leading "Dr/Cr" Text
DTSTART;TZID=America/Los_Angeles:20260421T190000
DTEND;TZID=America/Los_Angeles:20260421T200000
LOCATION:https://www.learndesk.us/class/6682947010691072/lesson/86e062d2d671915f6382392886c1e20b?ref=outlook-calendar
DESCRIPTION: https://www.learndesk.us/class/6682947010691072/lesson/86e062d2d671915f6382392886c1e20b?ref=outlook-calendar
STATUS:CONFIRMED
SEQUENCE:3
BEGIN:VALARM
TRIGGER:-PT10M
DESCRIPTION:Class Reminder
ACTION:DISPLAY
END:VALARM
END:VEVENT
END:VCALENDAR