BEGIN:VCALENDAR
VERSION:2.0
CALSCALE:GREGORIAN
BEGIN:VEVENT
URL:https://www.learndesk.us/class/6682947010691072/advanced-excel-crash-course?ref=outlook-calendar
SUMMARY:Advanced Excel Crash Course
DTSTART;TZID=America/Los_Angeles:20260421T190000
DTEND;TZID=America/Los_Angeles:20260421T200000
LOCATION:https://www.learndesk.us/class/6682947010691072/advanced-excel-crash-course?ref=outlook-calendar
DESCRIPTION: 
Advanced Excel remains one of the most extensive pieces of software used in workplaces around the world.
In this course, you will build on the strong foundations of Excel at all the following levels, i.e., basic, intermediate Excel skills.
Why choose our Advanced Excel crash course?

Automate your routine
Learn industry best practices, shortcuts, and tips and tricks to get things done and become 4x faster
This course will help you create efficient workflows without any coding involved
The modules are prepared to understand the need and requirement of the learners and will help them create workflows with ease
The course and study materials are available at a reasonable price
Self-paced online course, which you can view at your comfort
Lifetime access to each of the videos present the course

Who should take this course?

Professionals working with a large amount of data
Somebody looking to gain a tangible skill on your resume or gain a competitive advantage over your peers
An...

https://www.learndesk.us/class/6682947010691072/advanced-excel-crash-course?ref=outlook-calendar
STATUS:CONFIRMED
SEQUENCE:3
BEGIN:VALARM
TRIGGER:-PT10M
DESCRIPTION:Class Reminder
ACTION:DISPLAY
END:VALARM
END:VEVENT
END:VCALENDAR