BEGIN:VCALENDAR
VERSION:2.0
CALSCALE:GREGORIAN
BEGIN:VEVENT
URL:https://www.learndesk.us/class/6682364568666112/lesson/da6787091d5e11d401214af287caae87?ref=outlook-calendar
SUMMARY:Key 7 - Perspective
DTSTART;TZID=America/Los_Angeles:20260420T190000
DTEND;TZID=America/Los_Angeles:20260420T200000
LOCATION:https://www.learndesk.us/class/6682364568666112/lesson/da6787091d5e11d401214af287caae87?ref=outlook-calendar
DESCRIPTION: https://www.learndesk.us/class/6682364568666112/lesson/da6787091d5e11d401214af287caae87?ref=outlook-calendar
STATUS:CONFIRMED
SEQUENCE:3
BEGIN:VALARM
TRIGGER:-PT10M
DESCRIPTION:Class Reminder
ACTION:DISPLAY
END:VALARM
END:VEVENT
END:VCALENDAR