BEGIN:VCALENDAR
VERSION:2.0
CALSCALE:GREGORIAN
BEGIN:VEVENT
URL:https://www.learndesk.us/class/6682364568666112/lesson/c9d8fe5db33c5b2d1e058c2546bf5213?ref=outlook-calendar
SUMMARY:Keys to a Happier Life
DTSTART;TZID=America/Los_Angeles:20260420T190000
DTEND;TZID=America/Los_Angeles:20260420T200000
LOCATION:https://www.learndesk.us/class/6682364568666112/lesson/c9d8fe5db33c5b2d1e058c2546bf5213?ref=outlook-calendar
DESCRIPTION: https://www.learndesk.us/class/6682364568666112/lesson/c9d8fe5db33c5b2d1e058c2546bf5213?ref=outlook-calendar
STATUS:CONFIRMED
SEQUENCE:3
BEGIN:VALARM
TRIGGER:-PT10M
DESCRIPTION:Class Reminder
ACTION:DISPLAY
END:VALARM
END:VEVENT
END:VCALENDAR