BEGIN:VCALENDAR
VERSION:2.0
CALSCALE:GREGORIAN
BEGIN:VEVENT
URL:https://www.learndesk.us/class/6677846804135936/lesson/213309abb318ff5b6bc267e5602cfca5?ref=outlook-calendar
SUMMARY:Fields
DTSTART;TZID=America/Los_Angeles:20260421T190000
DTEND;TZID=America/Los_Angeles:20260421T200000
LOCATION:https://www.learndesk.us/class/6677846804135936/lesson/213309abb318ff5b6bc267e5602cfca5?ref=outlook-calendar
DESCRIPTION: https://www.learndesk.us/class/6677846804135936/lesson/213309abb318ff5b6bc267e5602cfca5?ref=outlook-calendar
STATUS:CONFIRMED
SEQUENCE:3
BEGIN:VALARM
TRIGGER:-PT10M
DESCRIPTION:Class Reminder
ACTION:DISPLAY
END:VALARM
END:VEVENT
END:VCALENDAR