BEGIN:VCALENDAR
VERSION:2.0
CALSCALE:GREGORIAN
BEGIN:VEVENT
URL:https://www.learndesk.us/class/6677846804135936/lesson/01417cbeb3f2a4d15affc612486dde1d?ref=outlook-calendar
SUMMARY:Template Syntax
DTSTART;TZID=America/Los_Angeles:20260421T190000
DTEND;TZID=America/Los_Angeles:20260421T200000
LOCATION:https://www.learndesk.us/class/6677846804135936/lesson/01417cbeb3f2a4d15affc612486dde1d?ref=outlook-calendar
DESCRIPTION: https://www.learndesk.us/class/6677846804135936/lesson/01417cbeb3f2a4d15affc612486dde1d?ref=outlook-calendar
STATUS:CONFIRMED
SEQUENCE:3
BEGIN:VALARM
TRIGGER:-PT10M
DESCRIPTION:Class Reminder
ACTION:DISPLAY
END:VALARM
END:VEVENT
END:VCALENDAR