BEGIN:VCALENDAR
VERSION:2.0
CALSCALE:GREGORIAN
BEGIN:VEVENT
URL:https://www.learndesk.us/class/6667422679433216/lesson/cfa8f166a92bc2460839187cebf102a3?ref=outlook-calendar
SUMMARY:The Construction, Thought-Process and The Execution Order
DTSTART;TZID=America/Los_Angeles:20260420T190000
DTEND;TZID=America/Los_Angeles:20260420T200000
LOCATION:https://www.learndesk.us/class/6667422679433216/lesson/cfa8f166a92bc2460839187cebf102a3?ref=outlook-calendar
DESCRIPTION: https://www.learndesk.us/class/6667422679433216/lesson/cfa8f166a92bc2460839187cebf102a3?ref=outlook-calendar
STATUS:CONFIRMED
SEQUENCE:3
BEGIN:VALARM
TRIGGER:-PT10M
DESCRIPTION:Class Reminder
ACTION:DISPLAY
END:VALARM
END:VEVENT
END:VCALENDAR