BEGIN:VCALENDAR
VERSION:2.0
CALSCALE:GREGORIAN
BEGIN:VEVENT
URL:https://www.learndesk.us/class/6640741826691072/lesson/da02b5c7c482df8745f0dcc2fac397b9?ref=outlook-calendar
SUMMARY:Network Configurations
DTSTART;TZID=America/Los_Angeles:20260422T190000
DTEND;TZID=America/Los_Angeles:20260422T200000
LOCATION:https://www.learndesk.us/class/6640741826691072/lesson/da02b5c7c482df8745f0dcc2fac397b9?ref=outlook-calendar
DESCRIPTION: https://www.learndesk.us/class/6640741826691072/lesson/da02b5c7c482df8745f0dcc2fac397b9?ref=outlook-calendar
STATUS:CONFIRMED
SEQUENCE:3
BEGIN:VALARM
TRIGGER:-PT10M
DESCRIPTION:Class Reminder
ACTION:DISPLAY
END:VALARM
END:VEVENT
END:VCALENDAR