BEGIN:VCALENDAR
VERSION:2.0
CALSCALE:GREGORIAN
BEGIN:VEVENT
URL:https://www.learndesk.us/class/6640741826691072/lesson/b4ecd58b40a9c8d66f27a5112179d4ee?ref=outlook-calendar
SUMMARY:L10 - Virtualization with Xen
DTSTART;TZID=America/Los_Angeles:20260422T190000
DTEND;TZID=America/Los_Angeles:20260422T200000
LOCATION:https://www.learndesk.us/class/6640741826691072/lesson/b4ecd58b40a9c8d66f27a5112179d4ee?ref=outlook-calendar
DESCRIPTION: https://www.learndesk.us/class/6640741826691072/lesson/b4ecd58b40a9c8d66f27a5112179d4ee?ref=outlook-calendar
STATUS:CONFIRMED
SEQUENCE:3
BEGIN:VALARM
TRIGGER:-PT10M
DESCRIPTION:Class Reminder
ACTION:DISPLAY
END:VALARM
END:VEVENT
END:VCALENDAR