BEGIN:VCALENDAR
VERSION:2.0
CALSCALE:GREGORIAN
BEGIN:VEVENT
URL:https://www.learndesk.us/class/6640741826691072/lesson/85a76658c689517287e8b3dd3068a03e?ref=outlook-calendar
SUMMARY:Xen Virtualization
DTSTART;TZID=America/Los_Angeles:20260422T190000
DTEND;TZID=America/Los_Angeles:20260422T200000
LOCATION:https://www.learndesk.us/class/6640741826691072/lesson/85a76658c689517287e8b3dd3068a03e?ref=outlook-calendar
DESCRIPTION: https://www.learndesk.us/class/6640741826691072/lesson/85a76658c689517287e8b3dd3068a03e?ref=outlook-calendar
STATUS:CONFIRMED
SEQUENCE:3
BEGIN:VALARM
TRIGGER:-PT10M
DESCRIPTION:Class Reminder
ACTION:DISPLAY
END:VALARM
END:VEVENT
END:VCALENDAR