BEGIN:VCALENDAR
VERSION:2.0
CALSCALE:GREGORIAN
BEGIN:VEVENT
URL:https://www.learndesk.us/class/6640741826691072/red-hat-system-administration?ref=outlook-calendar
SUMMARY:Red Hat System Administration
DTSTART;TZID=America/Los_Angeles:20260422T190000
DTEND;TZID=America/Los_Angeles:20260422T200000
LOCATION:https://www.learndesk.us/class/6640741826691072/red-hat-system-administration?ref=outlook-calendar
DESCRIPTION: 
This course is all about RHEL (Red Hat Enterprise Linux) and RHCE (Red Hat Certification Exam). Here we will explore various services, utilities, commands, and concepts related to RHEL covering RH133 (System Administration).
We will be learning system administration RH133 in-depth covering a wide range of topics including system initialization, RPM package management, kernel, and system services, user administration, filesystem management, network configuration, Xen virtualization, and troubleshooting.
We will learn concepts in lectures and will implement by executing commands on terminal and shell scripts in practical sessions.


https://www.learndesk.us/class/6640741826691072/red-hat-system-administration?ref=outlook-calendar
STATUS:CONFIRMED
SEQUENCE:3
BEGIN:VALARM
TRIGGER:-PT10M
DESCRIPTION:Class Reminder
ACTION:DISPLAY
END:VALARM
END:VEVENT
END:VCALENDAR