BEGIN:VCALENDAR
VERSION:2.0
CALSCALE:GREGORIAN
BEGIN:VEVENT
URL:https://www.learndesk.us/class/6638102833528832/lesson/f55dc5340a778b18680e85be2189bc52?ref=outlook-calendar
SUMMARY:Readings: Time Frame
DTSTART;TZID=America/Los_Angeles:20260421T190000
DTEND;TZID=America/Los_Angeles:20260421T200000
LOCATION:https://www.learndesk.us/class/6638102833528832/lesson/f55dc5340a778b18680e85be2189bc52?ref=outlook-calendar
DESCRIPTION: It is important to look at the time and to learn to answer questions in the time frame the client has given you.
This section contains:

Side notes
Time frames
Guidance



https://www.learndesk.us/class/6638102833528832/lesson/f55dc5340a778b18680e85be2189bc52?ref=outlook-calendar
STATUS:CONFIRMED
SEQUENCE:3
BEGIN:VALARM
TRIGGER:-PT10M
DESCRIPTION:Class Reminder
ACTION:DISPLAY
END:VALARM
END:VEVENT
END:VCALENDAR