BEGIN:VCALENDAR
VERSION:2.0
CALSCALE:GREGORIAN
BEGIN:VEVENT
URL:https://www.learndesk.us/class/6638102833528832/lesson/f39637aa55ae3946976ca35533f300cf?ref=outlook-calendar
SUMMARY:Balance and Rejuvenation Oracle Energy Cards
DTSTART;TZID=America/Los_Angeles:20260421T190000
DTEND;TZID=America/Los_Angeles:20260421T200000
LOCATION:https://www.learndesk.us/class/6638102833528832/lesson/f39637aa55ae3946976ca35533f300cf?ref=outlook-calendar
DESCRIPTION: In this video, we look at 5 balance and rejuvenation oracle energy cards.
We look closely at the meaning of the cards and how to use them in a reading.
This section contains:

Card 22 - Yin and yang&nbsp;
Card 48 - Angel of balance
Card 19 - Rest and rejuvenation
Card 16 - Patience
Card 17 - Action



https://www.learndesk.us/class/6638102833528832/lesson/f39637aa55ae3946976ca35533f300cf?ref=outlook-calendar
STATUS:CONFIRMED
SEQUENCE:3
BEGIN:VALARM
TRIGGER:-PT10M
DESCRIPTION:Class Reminder
ACTION:DISPLAY
END:VALARM
END:VEVENT
END:VCALENDAR