BEGIN:VCALENDAR
VERSION:2.0
CALSCALE:GREGORIAN
BEGIN:VEVENT
URL:https://www.learndesk.us/class/6638102833528832/lesson/f09dfd07a62766baa9007cb5132388a4?ref=outlook-calendar
SUMMARY:Love and Relationship Cards
DTSTART;TZID=America/Los_Angeles:20260421T190000
DTEND;TZID=America/Los_Angeles:20260421T200000
LOCATION:https://www.learndesk.us/class/6638102833528832/lesson/f09dfd07a62766baa9007cb5132388a4?ref=outlook-calendar
DESCRIPTION: This video contains 6 love and relationship cards.
We look closely at the meaning of cards and how we will use them in a reading.
This section contains:

Card 45 - Man holding a heart
Card 44 -&nbsp; Women holding a heart
Card 4&nbsp; - Happy family
Card 14 - Caring connections
Card 49 - Ange love
Card 33 - Door to romance



https://www.learndesk.us/class/6638102833528832/lesson/f09dfd07a62766baa9007cb5132388a4?ref=outlook-calendar
STATUS:CONFIRMED
SEQUENCE:3
BEGIN:VALARM
TRIGGER:-PT10M
DESCRIPTION:Class Reminder
ACTION:DISPLAY
END:VALARM
END:VEVENT
END:VCALENDAR