BEGIN:VCALENDAR
VERSION:2.0
CALSCALE:GREGORIAN
BEGIN:VEVENT
URL:https://www.learndesk.us/class/6638102833528832/lesson/ee255a169dcd0371e3d6af1aba142797?ref=outlook-calendar
SUMMARY:Your Deck Layout
DTSTART;TZID=America/Los_Angeles:20260421T190000
DTEND;TZID=America/Los_Angeles:20260421T200000
LOCATION:https://www.learndesk.us/class/6638102833528832/lesson/ee255a169dcd0371e3d6af1aba142797?ref=outlook-calendar
DESCRIPTION: This section will teach you how to layout your deck of cards.

Past
Present
Future
Guidance



https://www.learndesk.us/class/6638102833528832/lesson/ee255a169dcd0371e3d6af1aba142797?ref=outlook-calendar
STATUS:CONFIRMED
SEQUENCE:3
BEGIN:VALARM
TRIGGER:-PT10M
DESCRIPTION:Class Reminder
ACTION:DISPLAY
END:VALARM
END:VEVENT
END:VCALENDAR