BEGIN:VCALENDAR
VERSION:2.0
CALSCALE:GREGORIAN
BEGIN:VEVENT
URL:https://www.learndesk.us/class/6638102833528832/lesson/ec02542a54c922820fab5e9e5498aee6?ref=outlook-calendar
SUMMARY:One-to-One Live Reading
DTSTART;TZID=America/Los_Angeles:20260421T190000
DTEND;TZID=America/Los_Angeles:20260421T200000
LOCATION:https://www.learndesk.us/class/6638102833528832/lesson/ec02542a54c922820fab5e9e5498aee6?ref=outlook-calendar
DESCRIPTION: Congratulations.
This is your last part of the course. I am looking forward to meeting you and guiding you on your
Oracle energy tarot one-to-one reading.


https://www.learndesk.us/class/6638102833528832/lesson/ec02542a54c922820fab5e9e5498aee6?ref=outlook-calendar
STATUS:CONFIRMED
SEQUENCE:3
BEGIN:VALARM
TRIGGER:-PT10M
DESCRIPTION:Class Reminder
ACTION:DISPLAY
END:VALARM
END:VEVENT
END:VCALENDAR