BEGIN:VCALENDAR
VERSION:2.0
CALSCALE:GREGORIAN
BEGIN:VEVENT
URL:https://www.learndesk.us/class/6638102833528832/lesson/e867304df2eb13d9e330423fe4984e4d?ref=outlook-calendar
SUMMARY:Time Frame
DTSTART;TZID=America/Los_Angeles:20260421T190000
DTEND;TZID=America/Los_Angeles:20260421T200000
LOCATION:https://www.learndesk.us/class/6638102833528832/lesson/e867304df2eb13d9e330423fe4984e4d?ref=outlook-calendar
DESCRIPTION: This document contains valuable information to help and assist you in your journey.
This document contains:

Side notes
Guidance&nbsp;
Time frame


https://www.learndesk.us/class/6638102833528832/lesson/e867304df2eb13d9e330423fe4984e4d?ref=outlook-calendar
STATUS:CONFIRMED
SEQUENCE:3
BEGIN:VALARM
TRIGGER:-PT10M
DESCRIPTION:Class Reminder
ACTION:DISPLAY
END:VALARM
END:VEVENT
END:VCALENDAR