BEGIN:VCALENDAR
VERSION:2.0
CALSCALE:GREGORIAN
BEGIN:VEVENT
URL:https://www.learndesk.us/class/6638102833528832/lesson/e7f68581c5f3085a163d238ff586cb12?ref=outlook-calendar
SUMMARY:One-to-One Live Reading Preparation 
DTSTART;TZID=America/Los_Angeles:20260421T190000
DTEND;TZID=America/Los_Angeles:20260421T200000
LOCATION:https://www.learndesk.us/class/6638102833528832/lesson/e7f68581c5f3085a163d238ff586cb12?ref=outlook-calendar
DESCRIPTION: Prepare yourself for a live video reading. 
Please get to know your deck of cards and prepare for a 5 -10 minute reading.
In this one-to-one video reading, you will be giving me, your tutor and guide, a reading based on the questions I will ask below. These are frequent questions people ask. Preparing for these questions helps you to prepare for one-to-one live readings.

https://www.learndesk.us/class/6638102833528832/lesson/e7f68581c5f3085a163d238ff586cb12?ref=outlook-calendar
STATUS:CONFIRMED
SEQUENCE:3
BEGIN:VALARM
TRIGGER:-PT10M
DESCRIPTION:Class Reminder
ACTION:DISPLAY
END:VALARM
END:VEVENT
END:VCALENDAR