BEGIN:VCALENDAR
VERSION:2.0
CALSCALE:GREGORIAN
BEGIN:VEVENT
URL:https://www.learndesk.us/class/6638102833528832/lesson/e50c74e2bd845548f2d3907739fe3834?ref=outlook-calendar
SUMMARY:Learn to Read Your Deck
DTSTART;TZID=America/Los_Angeles:20260421T190000
DTEND;TZID=America/Los_Angeles:20260421T200000
LOCATION:https://www.learndesk.us/class/6638102833528832/lesson/e50c74e2bd845548f2d3907739fe3834?ref=outlook-calendar
DESCRIPTION: Learn how to create a relationship with your deck of cards.
In this section, you will see how to use a 9 deck layout.
This is a practice video, on learning how to place your deck.
The meaning of cards will follow in the following sections.
Enjoy your video.


https://www.learndesk.us/class/6638102833528832/lesson/e50c74e2bd845548f2d3907739fe3834?ref=outlook-calendar
STATUS:CONFIRMED
SEQUENCE:3
BEGIN:VALARM
TRIGGER:-PT10M
DESCRIPTION:Class Reminder
ACTION:DISPLAY
END:VALARM
END:VEVENT
END:VCALENDAR