BEGIN:VCALENDAR
VERSION:2.0
CALSCALE:GREGORIAN
BEGIN:VEVENT
URL:https://www.learndesk.us/class/6638102833528832/lesson/e4a6fea40c255961ccbf9dad7ca2291f?ref=outlook-calendar
SUMMARY:Meditation: Learn to Connect to Your Energy Oracle Cards
DTSTART;TZID=America/Los_Angeles:20260421T190000
DTEND;TZID=America/Los_Angeles:20260421T200000
LOCATION:https://www.learndesk.us/class/6638102833528832/lesson/e4a6fea40c255961ccbf9dad7ca2291f?ref=outlook-calendar
DESCRIPTION: Connect to your energy oracle cards.
Once you have bought your energy oracle cards, it is time to connect with the energy of the cards. In this space, we will connect with the energy field and diva of the cards to ask for guidance, assistance, and knowledge. 
This meditation was created for you to bond to the energy of your energy oracle cards.
In this meditation, I wish for you to acknowledge thoughts that rush in, the feelings you feel physically, and the emotions that resurface.

https://www.learndesk.us/class/6638102833528832/lesson/e4a6fea40c255961ccbf9dad7ca2291f?ref=outlook-calendar
STATUS:CONFIRMED
SEQUENCE:3
BEGIN:VALARM
TRIGGER:-PT10M
DESCRIPTION:Class Reminder
ACTION:DISPLAY
END:VALARM
END:VEVENT
END:VCALENDAR