BEGIN:VCALENDAR
VERSION:2.0
CALSCALE:GREGORIAN
BEGIN:VEVENT
URL:https://www.learndesk.us/class/6638102833528832/lesson/d63bdadd2ff796a7f5f8b5b86fe29338?ref=outlook-calendar
SUMMARY:Meditation Video
DTSTART;TZID=America/Los_Angeles:20260421T190000
DTEND;TZID=America/Los_Angeles:20260421T200000
LOCATION:https://www.learndesk.us/class/6638102833528832/lesson/d63bdadd2ff796a7f5f8b5b86fe29338?ref=outlook-calendar
DESCRIPTION: This is a guided meditation to help you on your journey of connecting with your oracle cards.
The cards carry an energy of their own and it is important to have a connection with the energy
of the cards to show and guide you on your oracle energy tarot card readings.


https://www.learndesk.us/class/6638102833528832/lesson/d63bdadd2ff796a7f5f8b5b86fe29338?ref=outlook-calendar
STATUS:CONFIRMED
SEQUENCE:3
BEGIN:VALARM
TRIGGER:-PT10M
DESCRIPTION:Class Reminder
ACTION:DISPLAY
END:VALARM
END:VEVENT
END:VCALENDAR