BEGIN:VCALENDAR
VERSION:2.0
CALSCALE:GREGORIAN
BEGIN:VEVENT
URL:https://www.learndesk.us/class/6638102833528832/lesson/bddb8f592d8661fd2165753d6c8c0b32?ref=outlook-calendar
SUMMARY:Positive Prediction Cards
DTSTART;TZID=America/Los_Angeles:20260421T190000
DTEND;TZID=America/Los_Angeles:20260421T200000
LOCATION:https://www.learndesk.us/class/6638102833528832/lesson/bddb8f592d8661fd2165753d6c8c0b32?ref=outlook-calendar
DESCRIPTION: In this video, we will look at 5 positive prediction cards.
We look closely at the meaning of each card and how we use them in reading.
This section includes:

Card 28 -&nbsp; Victory
Card 11 - Cornucopia
Card 3&nbsp; -&nbsp; Blossoming abundance
Card 7 - Community
Card 4 - Happy family



https://www.learndesk.us/class/6638102833528832/lesson/bddb8f592d8661fd2165753d6c8c0b32?ref=outlook-calendar
STATUS:CONFIRMED
SEQUENCE:3
BEGIN:VALARM
TRIGGER:-PT10M
DESCRIPTION:Class Reminder
ACTION:DISPLAY
END:VALARM
END:VEVENT
END:VCALENDAR