BEGIN:VCALENDAR
VERSION:2.0
CALSCALE:GREGORIAN
BEGIN:VEVENT
URL:https://www.learndesk.us/class/6638102833528832/lesson/b74db87d2a1aab3e104620d055774abd?ref=outlook-calendar
SUMMARY:Chakra Energy Oracle Cards: Video 2 of 2
DTSTART;TZID=America/Los_Angeles:20260421T190000
DTEND;TZID=America/Los_Angeles:20260421T200000
LOCATION:https://www.learndesk.us/class/6638102833528832/lesson/b74db87d2a1aab3e104620d055774abd?ref=outlook-calendar
DESCRIPTION: This video contains information on the last 4 chakras.
The heart chakra, The throat chakra, The third eye, and the crown chakra.


https://www.learndesk.us/class/6638102833528832/lesson/b74db87d2a1aab3e104620d055774abd?ref=outlook-calendar
STATUS:CONFIRMED
SEQUENCE:3
BEGIN:VALARM
TRIGGER:-PT10M
DESCRIPTION:Class Reminder
ACTION:DISPLAY
END:VALARM
END:VEVENT
END:VCALENDAR