BEGIN:VCALENDAR
VERSION:2.0
CALSCALE:GREGORIAN
BEGIN:VEVENT
URL:https://www.learndesk.us/class/6638102833528832/lesson/aaf60668649729f4bd9c374a965b9b78?ref=outlook-calendar
SUMMARY:Emotional Action Cards
DTSTART;TZID=America/Los_Angeles:20260421T190000
DTEND;TZID=America/Los_Angeles:20260421T200000
LOCATION:https://www.learndesk.us/class/6638102833528832/lesson/aaf60668649729f4bd9c374a965b9b78?ref=outlook-calendar
DESCRIPTION: In this video, we look at emotional action cards.
We look closely at the meaning of each card and how to use them in a reading.
This section contains:

Card 8 - Indecision
Card 30&nbsp; - The garden and the gate
Card 18 - Anxiety
Card 27 - Walking away



https://www.learndesk.us/class/6638102833528832/lesson/aaf60668649729f4bd9c374a965b9b78?ref=outlook-calendar
STATUS:CONFIRMED
SEQUENCE:3
BEGIN:VALARM
TRIGGER:-PT10M
DESCRIPTION:Class Reminder
ACTION:DISPLAY
END:VALARM
END:VEVENT
END:VCALENDAR