BEGIN:VCALENDAR
VERSION:2.0
CALSCALE:GREGORIAN
BEGIN:VEVENT
URL:https://www.learndesk.us/class/6638102833528832/lesson/a9b2eae24c5db565e3be0997b25a2a03?ref=outlook-calendar
SUMMARY:Personal Constraint Cards
DTSTART;TZID=America/Los_Angeles:20260421T190000
DTEND;TZID=America/Los_Angeles:20260421T200000
LOCATION:https://www.learndesk.us/class/6638102833528832/lesson/a9b2eae24c5db565e3be0997b25a2a03?ref=outlook-calendar
DESCRIPTION: In this video, we will look at 5 personal constraint cards.
We will look closely at the meaning of each card and how to use them in a reading.
This section contains:

Card 23 &ndash; All Tied Up
Card 5 -&nbsp; Attachment
Card 6 &ndash; Contracts
Card 13 &ndash; Financial constraints



https://www.learndesk.us/class/6638102833528832/lesson/a9b2eae24c5db565e3be0997b25a2a03?ref=outlook-calendar
STATUS:CONFIRMED
SEQUENCE:3
BEGIN:VALARM
TRIGGER:-PT10M
DESCRIPTION:Class Reminder
ACTION:DISPLAY
END:VALARM
END:VEVENT
END:VCALENDAR