BEGIN:VCALENDAR
VERSION:2.0
CALSCALE:GREGORIAN
BEGIN:VEVENT
URL:https://www.learndesk.us/class/6638102833528832/lesson/9a53476b038b59dacb15eaeeb3be3a0f?ref=outlook-calendar
SUMMARY:Chakra Energy Oracle Cards: Video 1 of 2
DTSTART;TZID=America/Los_Angeles:20260421T190000
DTEND;TZID=America/Los_Angeles:20260421T200000
LOCATION:https://www.learndesk.us/class/6638102833528832/lesson/9a53476b038b59dacb15eaeeb3be3a0f?ref=outlook-calendar
DESCRIPTION: This video contains information about the first 3 chakras.
The Base, Sacral Chakra, and Solar Plexus.


https://www.learndesk.us/class/6638102833528832/lesson/9a53476b038b59dacb15eaeeb3be3a0f?ref=outlook-calendar
STATUS:CONFIRMED
SEQUENCE:3
BEGIN:VALARM
TRIGGER:-PT10M
DESCRIPTION:Class Reminder
ACTION:DISPLAY
END:VALARM
END:VEVENT
END:VCALENDAR