BEGIN:VCALENDAR
VERSION:2.0
CALSCALE:GREGORIAN
BEGIN:VEVENT
URL:https://www.learndesk.us/class/6638102833528832/lesson/93eadbcbc7fb346676abca263c821372?ref=outlook-calendar
SUMMARY:Energy Oracle Cards
DTSTART;TZID=America/Los_Angeles:20260421T190000
DTEND;TZID=America/Los_Angeles:20260421T200000
LOCATION:https://www.learndesk.us/class/6638102833528832/lesson/93eadbcbc7fb346676abca263c821372?ref=outlook-calendar
DESCRIPTION: In this section, we look at the energy of Oracle cards in more detail.
We observe the connection between the cards and their meaning.
This section contains - Videos and Pdf attachments


https://www.learndesk.us/class/6638102833528832/lesson/93eadbcbc7fb346676abca263c821372?ref=outlook-calendar
STATUS:CONFIRMED
SEQUENCE:3
BEGIN:VALARM
TRIGGER:-PT10M
DESCRIPTION:Class Reminder
ACTION:DISPLAY
END:VALARM
END:VEVENT
END:VCALENDAR