BEGIN:VCALENDAR
VERSION:2.0
CALSCALE:GREGORIAN
BEGIN:VEVENT
URL:https://www.learndesk.us/class/6638102833528832/lesson/7c630f07a422bf78ab377cbc7c804d01?ref=outlook-calendar
SUMMARY:Warning Cards
DTSTART;TZID=America/Los_Angeles:20260421T190000
DTEND;TZID=America/Los_Angeles:20260421T200000
LOCATION:https://www.learndesk.us/class/6638102833528832/lesson/7c630f07a422bf78ab377cbc7c804d01?ref=outlook-calendar
DESCRIPTION: In this video, we will look at 5 warning energy oracle cards.
We look closely at the meaning of the cards and how we use them in a reading.
This section contains:

Card 20 - Envy
Card 25 - Deceit
Card 10 - Storm warning
Card 26 - Hostilities
Card 9 - Broken heart



https://www.learndesk.us/class/6638102833528832/lesson/7c630f07a422bf78ab377cbc7c804d01?ref=outlook-calendar
STATUS:CONFIRMED
SEQUENCE:3
BEGIN:VALARM
TRIGGER:-PT10M
DESCRIPTION:Class Reminder
ACTION:DISPLAY
END:VALARM
END:VEVENT
END:VCALENDAR