BEGIN:VCALENDAR
VERSION:2.0
CALSCALE:GREGORIAN
BEGIN:VEVENT
URL:https://www.learndesk.us/class/6638102833528832/lesson/79cb0c9a9b4ddb619ab6196c41c2435a?ref=outlook-calendar
SUMMARY:Spiritual Cards
DTSTART;TZID=America/Los_Angeles:20260421T190000
DTEND;TZID=America/Los_Angeles:20260421T200000
LOCATION:https://www.learndesk.us/class/6638102833528832/lesson/79cb0c9a9b4ddb619ab6196c41c2435a?ref=outlook-calendar
DESCRIPTION: In this video, you will find 5 spiritual Cards that show spiritual meaning and guidance.
We look closely at the meaning of each card and how we will use them in a reading.
This section contains:

Card 12 - The temple path
Card 34 - Door to personal healing and happiness.
Card - 32 Door to spirit
Card 53 - Magician and the mirror
Card - 51 Healer of the ages



https://www.learndesk.us/class/6638102833528832/lesson/79cb0c9a9b4ddb619ab6196c41c2435a?ref=outlook-calendar
STATUS:CONFIRMED
SEQUENCE:3
BEGIN:VALARM
TRIGGER:-PT10M
DESCRIPTION:Class Reminder
ACTION:DISPLAY
END:VALARM
END:VEVENT
END:VCALENDAR